BEGIN:VCALENDAR
VERSION:2.0
PRODID:-//Autism Belize - ECPv6.15.20//NONSGML v1.0//EN
CALSCALE:GREGORIAN
METHOD:PUBLISH
X-ORIGINAL-URL:https://autismbelize.org
X-WR-CALDESC:Events for Autism Belize
REFRESH-INTERVAL;VALUE=DURATION:PT1H
X-Robots-Tag:noindex
X-PUBLISHED-TTL:PT1H
BEGIN:VTIMEZONE
TZID:America/Belize
BEGIN:STANDARD
TZOFFSETFROM:-0600
TZOFFSETTO:-0600
TZNAME:CST
DTSTART:20190101T000000
END:STANDARD
END:VTIMEZONE
BEGIN:VEVENT
DTSTART;TZID=America/Belize:20210417T100000
DTEND;TZID=America/Belize:20210417T103000
DTSTAMP:20260424T142942
CREATED:20210330T132531Z
LAST-MODIFIED:20210330T132533Z
UID:6319-1618653600-1618655400@autismbelize.org
SUMMARY:Special Needs Yoga for Kids
DESCRIPTION:Join us for a Free Special Needs Yoga for Kids!
URL:https://autismbelize.org/event/special-needs-yoga-for-kids/
LOCATION:Private Zoom Session
CATEGORIES:Special Needs Activities
ATTACH;FMTTYPE=image/png:https://autismbelize.org/wp-content/uploads/2021/03/Special-Needs-Yoga2.png
ORGANIZER;CN="Autism Belize":MAILTO:autismbelize@icloud.com
END:VEVENT
BEGIN:VEVENT
DTSTART;TZID=America/Belize:20210412T180000
DTEND;TZID=America/Belize:20210412T190000
DTSTAMP:20260424T142942
CREATED:20210330T003619Z
LAST-MODIFIED:20210330T003729Z
UID:6299-1618250400-1618254000@autismbelize.org
SUMMARY:Celebrate Differences Through Dance Class
DESCRIPTION:April is Autism Awareness Month! Autism Belize is so pleased to announce that the Modern Dance Movement and the Institute of the Creative Arts is hosting a FREE Celebrate Differences Dance Class for Special Needs Kids and their Parents on Monday\, April 12th at 6:00PM. Dance is a wonderful way to help kids develop social\, communication and motor skills. Best of all\, it’s fun! Come join us for some fun\, laughter and dance.
URL:https://autismbelize.org/event/celebrate-differences-through-dance-class/
LOCATION:Private Zoom Session
CATEGORIES:Special Needs Activities
ATTACH;FMTTYPE=image/jpeg:https://autismbelize.org/wp-content/uploads/2021/03/Celebrate-Differences3.jpg
ORGANIZER;CN="Autism Belize":MAILTO:autismbelize@icloud.com
END:VEVENT
BEGIN:VEVENT
DTSTART;TZID=America/Belize:20210411T090000
DTEND;TZID=America/Belize:20210411T100000
DTSTAMP:20260424T142942
CREATED:20210313T201253Z
LAST-MODIFIED:20210330T000052Z
UID:6192-1618131600-1618135200@autismbelize.org
SUMMARY:Mass of Acceptance: St Martin's DePorres Church Service
DESCRIPTION:Mass of Acceptance: St Martin’s DePorres Church Service: Sunday\, April 11 at 9AM on St. Martin’s Facebook Page & Autism Belize’s Facebook Page. Our Special Needs Kiddos will be assisting with the service.
URL:https://autismbelize.org/event/mass-of-acceptance-st-martins-deporres-church-service/
LOCATION:Facebook Live\, Belize
CATEGORIES:Special Needs Activities
ATTACH;FMTTYPE=image/jpeg:https://autismbelize.org/wp-content/uploads/2021/03/Mass-of-Awareness-Acceptance-1.jpg
ORGANIZER;CN="Autism Belize":MAILTO:autismbelize@icloud.com
END:VEVENT
BEGIN:VEVENT
DTSTART;TZID=America/Belize:20210410T053000
DTEND;TZID=America/Belize:20210410T073000
DTSTAMP:20260424T142942
CREATED:20210330T001122Z
LAST-MODIFIED:20210330T001124Z
UID:6292-1618032600-1618039800@autismbelize.org
SUMMARY:Walk The Walk 4 Autism
DESCRIPTION:Join Us- Wear Blue to show your support. Come out from 5:30AM from prizes and giveaways.
URL:https://autismbelize.org/event/walk-the-walk-4-autism/
LOCATION:BTL Park\, Belize City\, Belize
CATEGORIES:Special Needs Activities
ATTACH;FMTTYPE=image/png:https://autismbelize.org/wp-content/uploads/2021/03/Walk-the-Walk-5Km1-1.png
ORGANIZER;CN="Autism Belize":MAILTO:autismbelize@icloud.com
END:VEVENT
BEGIN:VEVENT
DTSTART;TZID=America/Belize:20201229T080000
DTEND;TZID=America/Belize:20201229T080000
DTSTAMP:20260424T142942
CREATED:20201023T181548Z
LAST-MODIFIED:20210104T203222Z
UID:5913-1609228800-1609228800@autismbelize.org
SUMMARY:National Disabilities Awareness Week
DESCRIPTION:Please check out the calendar of events for National Disability Awareness week. \n 
URL:https://autismbelize.org/event/national-disabilities-week/
LOCATION:Facebook Live\, Belize
CATEGORIES:Special Needs Activities
ATTACH;FMTTYPE=image/jpeg:https://autismbelize.org/wp-content/uploads/2020/10/9.jpg
ORGANIZER;CN="Autism Belize":MAILTO:autismbelize@icloud.com
END:VEVENT
BEGIN:VEVENT
DTSTART;TZID=America/Belize:20201205T100000
DTEND;TZID=America/Belize:20201205T103000
DTSTAMP:20260424T142942
CREATED:20201127T212934Z
LAST-MODIFIED:20201127T212936Z
UID:5972-1607162400-1607164200@autismbelize.org
SUMMARY:Special Needs Yoga: Kids Edition
DESCRIPTION:Autism Belize and Belize Yoga Mom presents Special Needs Yoga: Kids edition in honor of National Disability Awareness Week. All are welcome to join us LIVE on Autism Belize Facebook page on Saturday\, December 5 at 10:00AM.
URL:https://autismbelize.org/event/special-needs-yoga-kids-edition/
LOCATION:Facebook Live\, Belize
CATEGORIES:Special Needs Activities
ATTACH;FMTTYPE=image/png:https://autismbelize.org/wp-content/uploads/2020/11/3.png
ORGANIZER;CN="Autism Belize":MAILTO:autismbelize@icloud.com
END:VEVENT
BEGIN:VEVENT
DTSTART;TZID=America/Belize:20201203T180000
DTEND;TZID=America/Belize:20201203T180000
DTSTAMP:20260424T142942
CREATED:20201127T211512Z
LAST-MODIFIED:20201127T213101Z
UID:5963-1607018400-1607018400@autismbelize.org
SUMMARY:Living With Autism- A Facebook Live Panel Discussion Event
DESCRIPTION:Continuing our celebration of National Disability Awareness Week\, Autism Belize presents A Panel Discussion: Living with Autism. The panel includes two young Belizeans and Bryan Ross\, Ph.D.\, CCC-SLP Instructional Associate Professor\, Department of Communication Sciences and Disorders\, University of Houston.
URL:https://autismbelize.org/event/living-with-autism-a-facebook-live-panel-discussion-event/
LOCATION:Facebook Live\, Belize
CATEGORIES:Special Needs Activities
ATTACH;FMTTYPE=image/jpeg:https://autismbelize.org/wp-content/uploads/2020/11/Guest-Speaker-Insta1.jpg
ORGANIZER;CN="Autism Belize":MAILTO:autismbelize@icloud.com
END:VEVENT
BEGIN:VEVENT
DTSTART;TZID=America/Belize:20201202T190000
DTEND;TZID=America/Belize:20201202T193000
DTSTAMP:20260424T142942
CREATED:20201127T212503Z
LAST-MODIFIED:20201127T213320Z
UID:5968-1606935600-1606937400@autismbelize.org
SUMMARY:Special Needs Yoga: Adults
DESCRIPTION:Autism Belize and Belize Yoga Mom presents Special Needs Yoga: Adult edition in honor of National Disability Awareness Week. All are welcome to join us LIVE on Autism Belize Facebook page on Wednesday\, December 2 at 7:00PM.
URL:https://autismbelize.org/event/special-needs-yoga-adults/
LOCATION:Facebook Live\, Belize
CATEGORIES:Special Needs Activities
ATTACH;FMTTYPE=image/png:https://autismbelize.org/wp-content/uploads/2020/11/2.png
ORGANIZER;CN="Autism Belize":MAILTO:autismbelize@icloud.com
END:VEVENT
BEGIN:VEVENT
DTSTART;TZID=America/Belize:20201201T183000
DTEND;TZID=America/Belize:20201201T203000
DTSTAMP:20260424T142942
CREATED:20201116T184150Z
LAST-MODIFIED:20201116T184151Z
UID:5950-1606847400-1606854600@autismbelize.org
SUMMARY:Disability Awareness Week Guest Speaker Event
DESCRIPTION:
URL:https://autismbelize.org/event/disability-awareness-week-guest-speaker-event/
LOCATION:Facebook Live\, Belize
CATEGORIES:Guest Speaker Series,Special Needs Activities
ATTACH;FMTTYPE=image/jpeg:https://autismbelize.org/wp-content/uploads/2020/11/8.jpg
ORGANIZER;CN="Autism Belize":MAILTO:autismbelize@icloud.com
END:VEVENT
BEGIN:VEVENT
DTSTART;TZID=America/Belize:20201031T100000
DTEND;TZID=America/Belize:20201031T110000
DTSTAMP:20260424T142942
CREATED:20201023T181337Z
LAST-MODIFIED:20201023T181337Z
UID:5910-1604138400-1604142000@autismbelize.org
SUMMARY:Special Needs Yoga
DESCRIPTION:Autism Belize is hosting FREE Special Needs Yoga for Special Needs Kids via Zoom. For more information on Special Needs Yoga\, please click here: \nFrequently Asked Questions\, Special Needs Yoga
URL:https://autismbelize.org/event/special-needs-yoga/
LOCATION:Private Zoom Session
CATEGORIES:Special Needs Activities
ATTACH;FMTTYPE=image/png:https://autismbelize.org/wp-content/uploads/2020/10/Special-Needs-Yoga5.png
ORGANIZER;CN="Autism Belize":MAILTO:autismbelize@icloud.com
END:VEVENT
END:VCALENDAR