BEGIN:VCALENDAR
VERSION:2.0
PRODID:-//Autism Belize - ECPv6.15.20//NONSGML v1.0//EN
CALSCALE:GREGORIAN
METHOD:PUBLISH
X-ORIGINAL-URL:https://autismbelize.org
X-WR-CALDESC:Events for Autism Belize
REFRESH-INTERVAL;VALUE=DURATION:PT1H
X-Robots-Tag:noindex
X-PUBLISHED-TTL:PT1H
BEGIN:VTIMEZONE
TZID:America/Belize
BEGIN:STANDARD
TZOFFSETFROM:-0600
TZOFFSETTO:-0600
TZNAME:CST
DTSTART:20190101T000000
END:STANDARD
END:VTIMEZONE
BEGIN:VEVENT
DTSTART;TZID=America/Belize:20201026T130000
DTEND;TZID=America/Belize:20201026T140000
DTSTAMP:20260424T185650
CREATED:20201023T174654Z
LAST-MODIFIED:20201023T174654Z
UID:5905-1603717200-1603720800@autismbelize.org
SUMMARY:Presentation on Rights of a Child
DESCRIPTION:Autism Belize presents to St. John’s College Junior College\, Making Moral Decisions Class on Rights of A Child\, Are Children Different?
URL:https://autismbelize.org/event/presentation-on-rights-of-a-child/
LOCATION:Private Zoom Session
CATEGORIES:Sensitization Training
ATTACH;FMTTYPE=image/png:https://autismbelize.org/wp-content/uploads/2020/10/Rights-of-a-Child-Making-Moral-Decisions.png
ORGANIZER;CN="Autism Belize":MAILTO:autismbelize@icloud.com
END:VEVENT
BEGIN:VEVENT
DTSTART;TZID=America/Belize:20200626T090000
DTEND;TZID=America/Belize:20200626T110000
DTSTAMP:20260424T185650
CREATED:20200728T202414Z
LAST-MODIFIED:20200728T202414Z
UID:5338-1593162000-1593169200@autismbelize.org
SUMMARY:Understanding Autism: A Sensitization Training for Teachers at the YWCA\, Belize
DESCRIPTION:
URL:https://autismbelize.org/event/understanding-autism-a-sensitization-training-for-teachers-at-the-ywca-belize/
CATEGORIES:Sensitization Training
ATTACH;FMTTYPE=image/png:https://autismbelize.org/wp-content/uploads/2020/07/Screen-Shot-2020-07-28-at-1.40.59-PM-1.png
ORGANIZER;CN="Autism Belize":MAILTO:autismbelize@icloud.com
END:VEVENT
END:VCALENDAR