BEGIN:VCALENDAR
VERSION:2.0
PRODID:-//Autism Belize - ECPv6.15.20//NONSGML v1.0//EN
CALSCALE:GREGORIAN
METHOD:PUBLISH
X-ORIGINAL-URL:https://autismbelize.org
X-WR-CALDESC:Events for Autism Belize
REFRESH-INTERVAL;VALUE=DURATION:PT1H
X-Robots-Tag:noindex
X-PUBLISHED-TTL:PT1H
BEGIN:VTIMEZONE
TZID:America/Belize
BEGIN:STANDARD
TZOFFSETFROM:-0600
TZOFFSETTO:-0600
TZNAME:CST
DTSTART:20200101T000000
END:STANDARD
END:VTIMEZONE
BEGIN:VEVENT
DTSTART;TZID=America/Belize:20210409T083000
DTEND;TZID=America/Belize:20210409T123000
DTSTAMP:20260424T205155
CREATED:20210330T000624Z
LAST-MODIFIED:20210330T000625Z
UID:6290-1617957000-1617971400@autismbelize.org
SUMMARY:SEN Teacher Training: The IEP Process From Start to Finish
DESCRIPTION:Autism Belize presents a SEN Teacher Training Module: The IEP Process From Start to Finish. \n \nPlease note\, this parent training will NOT be held LIVE on the Autism Facebook Page. Autism Belize will email your link with instructions on how to sign-in for this training directly to you by Thursday\, April 8\, 2021. \nAutism Belize is organizing and hosting this event free of charge. Should you have any questions or concerns\, please contact us directly.
URL:https://autismbelize.org/event/sen-teacher-training-the-iep-process-from-start-to-finish/
LOCATION:Private Zoom Session
CATEGORIES:SEN Teacher Training
ATTACH;FMTTYPE=image/jpeg:https://autismbelize.org/wp-content/uploads/2021/03/SEN-Training3-1.jpg
ORGANIZER;CN="Autism Belize":MAILTO:autismbelize@icloud.com
END:VEVENT
END:VCALENDAR