BEGIN:VCALENDAR
VERSION:2.0
PRODID:-//Autism Belize - ECPv6.15.20//NONSGML v1.0//EN
CALSCALE:GREGORIAN
METHOD:PUBLISH
X-ORIGINAL-URL:https://autismbelize.org
X-WR-CALDESC:Events for Autism Belize
REFRESH-INTERVAL;VALUE=DURATION:PT1H
X-Robots-Tag:noindex
X-PUBLISHED-TTL:PT1H
BEGIN:VTIMEZONE
TZID:America/Belize
BEGIN:STANDARD
TZOFFSETFROM:-0600
TZOFFSETTO:-0600
TZNAME:CST
DTSTART:20190101T000000
END:STANDARD
END:VTIMEZONE
BEGIN:VEVENT
DTSTART;TZID=America/Belize:20250604T180000
DTEND;TZID=America/Belize:20250604T200000
DTSTAMP:20260424T142925
CREATED:20250410T183850Z
LAST-MODIFIED:20250410T183851Z
UID:8063-1749060000-1749067200@autismbelize.org
SUMMARY:Parent Training - Developing Functional Skills (Play)
DESCRIPTION:
URL:https://autismbelize.org/event/parent-training-developing-functional-skills-play/
CATEGORIES:Parent Training
ATTACH;FMTTYPE=image/jpeg:https://autismbelize.org/wp-content/uploads/2025/03/SpEd-Flyer-Partnership3.jpg
END:VEVENT
BEGIN:VEVENT
DTSTART;TZID=America/Belize:20250507T180000
DTEND;TZID=America/Belize:20250507T200000
DTSTAMP:20260424T142925
CREATED:20250410T183743Z
LAST-MODIFIED:20250410T183743Z
UID:8061-1746640800-1746648000@autismbelize.org
SUMMARY:Parent Training - Developing Functional Skills (ABA)
DESCRIPTION:
URL:https://autismbelize.org/event/parent-training-developing-functional-skills-aba/
CATEGORIES:Parent Training
ATTACH;FMTTYPE=image/jpeg:https://autismbelize.org/wp-content/uploads/2025/03/SpEd-Flyer-Partnership3.jpg
END:VEVENT
BEGIN:VEVENT
DTSTART;TZID=America/Belize:20210930T180000
DTEND;TZID=America/Belize:20210930T200000
DTSTAMP:20260424T142925
CREATED:20210921T182658Z
LAST-MODIFIED:20210921T183448Z
UID:6816-1633024800-1633032000@autismbelize.org
SUMMARY:FREE Training:  Improving Social Skills Through Play Based Learning
DESCRIPTION:This free Special Needs Parent and Teacher Training is being offered to you by Autism Belize.  YOU MUST register in advance. Should you have any questions or concerns\, please contact us directly.
URL:https://autismbelize.org/event/free-training-improving-social-skills-through-play-based-learning/
LOCATION:Private Zoom Session
CATEGORIES:Parent Training
ATTACH;FMTTYPE=image/jpeg:https://autismbelize.org/wp-content/uploads/2021/09/10.jpg
ORGANIZER;CN="Autism Belize":MAILTO:autismbelize@icloud.com
END:VEVENT
BEGIN:VEVENT
DTSTART;TZID=America/Belize:20210803T180000
DTEND;TZID=America/Belize:20210803T200000
DTSTAMP:20260424T142925
CREATED:20210722T031544Z
LAST-MODIFIED:20210722T031546Z
UID:6687-1628013600-1628020800@autismbelize.org
SUMMARY:Movement\, Muscles and Messes: Using Sensory Strategies in Occupational Therapy
DESCRIPTION:This free training\, Addressing Challenging Behaviors: Movement\, Muscles and Messes: Using Sensory Strategies in Occupational Therapy is for Special Needs Parents/Caregivers\, Teachers/Educators\, and Students. To register\, simply fill out the registration form here: \nParent & Teacher Training \n \nYou MUST register in advance. This free parent training is being offered to you by Autism Belize. Should you have any questions or concerns\, please contact us directly.
URL:https://autismbelize.org/event/movement-muscles-and-messes-using-sensory-strategies-in-occupational-therapy/
LOCATION:Private Zoom Session
CATEGORIES:Parent Training
ATTACH;FMTTYPE=image/jpeg:https://autismbelize.org/wp-content/uploads/2021/07/11.jpg
ORGANIZER;CN="Autism Belize":MAILTO:autismbelize@icloud.com
END:VEVENT
BEGIN:VEVENT
DTSTART;TZID=America/Belize:20210728T180000
DTEND;TZID=America/Belize:20210728T200000
DTSTAMP:20260424T142925
CREATED:20210722T030625Z
LAST-MODIFIED:20210722T031849Z
UID:6684-1627495200-1627502400@autismbelize.org
SUMMARY:Addressing Challenging Behaviors
DESCRIPTION:This free training\, Addressing Challenging Behaviors: Using ABA methods to reduce problem behaviors in children with special needs & functional assessment of problem behaviors\, is for Special Needs Parents/Caregivers\, Teachers/Educators\, and Students. To register\, simply fill out the registration form here: \nParent & Teacher Training \n \n  \nYou MUST register in advance. This free parent training is being offered to you by Autism Belize. Should you have any questions or concerns\, please contact us directly.
URL:https://autismbelize.org/event/addressing-challenging-behaviors/
LOCATION:Private Zoom Session
CATEGORIES:Parent Training
ATTACH;FMTTYPE=image/jpeg:https://autismbelize.org/wp-content/uploads/2021/07/Parent-Training-FB15.jpg
ORGANIZER;CN="Autism Belize":MAILTO:autismbelize@icloud.com
END:VEVENT
BEGIN:VEVENT
DTSTART;TZID=America/Belize:20210722T180000
DTEND;TZID=America/Belize:20210722T200000
DTSTAMP:20260424T142925
CREATED:20210707T224251Z
LAST-MODIFIED:20210707T224252Z
UID:6659-1626976800-1626984000@autismbelize.org
SUMMARY:Behavior-Analytic Play Based Teaching Tips
DESCRIPTION:This free training is for Special Needs Parents/Caregivers\, Teachers/Educators\, and Students. To register\, simply fill out the registration form here: \nParent & Teacher Training \n \nYou MUST register in advance. This free parent training is being offered to you by Autism Belize. Should you have any questions or concerns\, please contact us directly.
URL:https://autismbelize.org/event/behavior-analytic-play-based-teaching-tips/
LOCATION:Private Zoom Session
CATEGORIES:Parent Training
ATTACH;FMTTYPE=image/jpeg:https://autismbelize.org/wp-content/uploads/2021/07/Parent-Training-FB12.jpg
ORGANIZER;CN="Autism Belize":MAILTO:autismbelize@icloud.com
END:VEVENT
BEGIN:VEVENT
DTSTART;TZID=America/Belize:20210714T180000
DTEND;TZID=America/Belize:20210714T200000
DTSTAMP:20260424T142925
CREATED:20210707T223730Z
LAST-MODIFIED:20210707T224259Z
UID:6656-1626285600-1626292800@autismbelize.org
SUMMARY:Parent & Teacher Training: What Works Integrating Effective Interventions
DESCRIPTION:This free training is for Special Needs Parents/Caregivers\, Teachers/Educators\, and Students. To register\, simply fill out the registration form here: \nParent & Teacher Training \n \nYou MUST register in advance. This free parent training is being offered to you by Autism Belize. Should you have any questions or concerns\, please contact us directly. \n 
URL:https://autismbelize.org/event/parent-teacher-training-what-works-integrating-effective-interventions/
LOCATION:Private Zoom Session
CATEGORIES:Parent Training
ATTACH;FMTTYPE=image/jpeg:https://autismbelize.org/wp-content/uploads/2021/07/Parent-Training-FB13.jpg
ORGANIZER;CN="Autism Belize":MAILTO:autismbelize@icloud.com
END:VEVENT
BEGIN:VEVENT
DTSTART;TZID=America/Belize:20210309T180000
DTEND;TZID=America/Belize:20210309T193000
DTSTAMP:20260424T142925
CREATED:20210223T171819Z
LAST-MODIFIED:20210223T171819Z
UID:6155-1615312800-1615318200@autismbelize.org
SUMMARY:Special Needs Parents & Teacher Training: Anxiety & Depression in Children & Adolescents with ASD
DESCRIPTION:Autism Belize presents a Special Needs Parent and Teacher Training on: Anxiety and Depression in Children & Adolescents with ASD on Tuesday\, March 9 at 6:00 Belize Time / 7:00PM Jamaica Time. \n \nPlease note\, this parent training will NOT be held LIVE on the Autism Facebook Page.It will be on Zoom for registered persons only.\n \nAutism Belize is organizing and hosting this event free of charge. Should you have any questions or concerns\, please contact us directly.
URL:https://autismbelize.org/event/special-needs-parents-teacher-training-anxiety-depression-in-children-adolescents-with-asd/
LOCATION:Private Zoom Session
CATEGORIES:Parent Training
ATTACH;FMTTYPE=image/jpeg:https://autismbelize.org/wp-content/uploads/2021/02/Parent-Training-FB3.jpg
ORGANIZER;CN="Autism Belize":MAILTO:autismbelize@icloud.com
END:VEVENT
BEGIN:VEVENT
DTSTART;TZID=America/Belize:20210223T183000
DTEND;TZID=America/Belize:20210223T203000
DTSTAMP:20260424T142925
CREATED:20210201T202315Z
LAST-MODIFIED:20210201T202315Z
UID:6079-1614105000-1614112200@autismbelize.org
SUMMARY:Special Needs Parent & Teacher Training: Identifying Needs\, Setting Goals\, & Making Accommodations
DESCRIPTION:Autism Belize presents a Special Needs Parent and Teacher Training on: Identifying Needs\, Setting Goals and Making Accomodations on Tuesday\, February 23 at 6:30 Belize Time / 7:30PM Jamaica Time. \n \nPlease note\, this parent training will NOT be held LIVE on the Autism Facebook Page.It will be on Zoom for registered persons only.\n \nAutism Belize is organizing and hosting this event free of charge. Should you have any questions or concerns\, please contact us directly.
URL:https://autismbelize.org/event/special-needs-parent-teacher-training-identifying-needs-setting-goals-making-accommodations/
LOCATION:Private Zoom Session
CATEGORIES:Parent Training
ATTACH;FMTTYPE=image/jpeg:https://autismbelize.org/wp-content/uploads/2021/02/Parent-Training-FB1.jpg
ORGANIZER;CN="Autism Belize":MAILTO:autismbelize@icloud.com
END:VEVENT
BEGIN:VEVENT
DTSTART;TZID=America/Belize:20210217T180000
DTEND;TZID=America/Belize:20210217T200000
DTSTAMP:20260424T142925
CREATED:20210208T213217Z
LAST-MODIFIED:20210208T213218Z
UID:6093-1613584800-1613592000@autismbelize.org
SUMMARY:Special Needs Parent & Teacher Training: Use of Medication in Children with ASD
DESCRIPTION:Autism Belize presents a Special Needs Parent and Teacher Training: Use of Medication in Children with ASD on Wednesday\, February 17 at 6:00 Belize Time / 7:00PM Jamaica Time. \n \nPlease note\, this parent training will NOT be held LIVE on the Autism Facebook Page.It will be on Zoom for registered persons only.\n \nAutism Belize is organizing and hosting this event free of charge. Should you have any questions or concerns\, please contact us directly.
URL:https://autismbelize.org/event/special-needs-parent-teacher-training-use-of-medication-in-children-with-asd/
LOCATION:Private Zoom Session
CATEGORIES:Parent Training
ATTACH;FMTTYPE=image/jpeg:https://autismbelize.org/wp-content/uploads/2021/02/Parent-Training-FB2.jpg
ORGANIZER;CN="Autism Belize":MAILTO:autismbelize@icloud.com
END:VEVENT
BEGIN:VEVENT
DTSTART;TZID=America/Belize:20210119T183000
DTEND;TZID=America/Belize:20210119T203000
DTSTAMP:20260424T142925
CREATED:20210104T205524Z
LAST-MODIFIED:20210104T210206Z
UID:6027-1611081000-1611088200@autismbelize.org
SUMMARY:Parent & Teacher Training: Picky Eaters vs. Problem Feeders.
DESCRIPTION:
URL:https://autismbelize.org/event/parent-teacher-training-picky-eaters-vs-problem-feeders/
LOCATION:Private Zoom Session
CATEGORIES:Parent Training
ATTACH;FMTTYPE=image/jpeg:https://autismbelize.org/wp-content/uploads/2021/01/Guest-Speaker-Insta2.jpg
ORGANIZER;CN="Autism Belize":MAILTO:autismbelize@icloud.com
END:VEVENT
BEGIN:VEVENT
DTSTART;TZID=America/Belize:20201028T183000
DTEND;TZID=America/Belize:20201028T203000
DTSTAMP:20260424T142925
CREATED:20200923T225222Z
LAST-MODIFIED:20200925T003222Z
UID:5724-1603909800-1603917000@autismbelize.org
SUMMARY:Introduction to Behavior Intervention
DESCRIPTION:Autism Belize presents a Parent and Teacher Training on: Introduction to Behavior Intervention  on Wednesday\, October 28 at 6:30 Belize Time / 7:30PM Jamaica Time. Our Presenter will be Danielle Strickland\, MA\, LPC.\n \nPlease note\, this parent training will NOT be held LIVE on the Autism Facebook Page. Autism Belize will email your link with instructions on how to sign-in for this training directly to you by Tuesday\, October 27\, 2020. \nAutism Belize is organizing and hosting this event free of charge. Should you have any questions or concerns\, please contact us directly.
URL:https://autismbelize.org/event/introduction-to-behavior-intervention-crisis-prevention-institute/
CATEGORIES:Parent Training
ATTACH;FMTTYPE=image/jpeg:https://autismbelize.org/wp-content/uploads/2020/09/Parent-Training-FB10.jpg
END:VEVENT
BEGIN:VEVENT
DTSTART;TZID=America/Belize:20200930T180000
DTEND;TZID=America/Belize:20200930T200000
DTSTAMP:20260424T142925
CREATED:20200923T230151Z
LAST-MODIFIED:20200923T230151Z
UID:5557-1601488800-1601496000@autismbelize.org
SUMMARY:Special Needs Parents and Depression: What It Looks Like and How To Cope
DESCRIPTION:Autism Belize presents a Parent and Teacher Training on: Special Needs Parents & Depression: What It Looks Like and How To Cope on Wednesday\, September 30\, at 6:00 Belize Time / 7:00PM Jamaica Time. Our Presenter will be Martine King\, Mental Health Therapist and Emotional Intelligence Practitioner.\n \nPlease note\, this parent training will NOT be held LIVE on the Autism Facebook Page. Autism Belize will email your link with instructions on how to sign-in for this training directly to you by Tuesday\, September 29\, 2020. \nAutism Belize is organizing and hosting this event free of charge. Should you have any questions or concerns\, please contact us directly.
URL:https://autismbelize.org/event/special-needs-parents-and-depression-what-it-looks-like-and-how-to-cope/
CATEGORIES:Parent Training
ATTACH;FMTTYPE=image/jpeg:https://autismbelize.org/wp-content/uploads/2020/08/Parent-Training-FB3.jpg
END:VEVENT
BEGIN:VEVENT
DTSTART;TZID=America/Belize:20200917T183000
DTEND;TZID=America/Belize:20200917T200000
DTSTAMP:20260424T142925
CREATED:20200801T025836Z
LAST-MODIFIED:20200902T000546Z
UID:5427-1600367400-1600372800@autismbelize.org
SUMMARY:Parent Training: Now I know what to do: Functional Communication Basics
DESCRIPTION:Autism Belize presents a free parent training on Now I know what to do: Functional Communication Basics by Deirdre Muldoon\, PhD\, CCC-SLP\, BCBA-D. \nThis family friendly talk will cover the area of communication and verbal behavior. Deirdre Muldoon will cover what functional communication is\, where it stands in evidence based practice\, and how to find the correct communication replacement for some difficult behaviors. \n 
URL:https://autismbelize.org/event/parent-training-now-i-know-what-to-do-functional-communication-basics/
LOCATION:Online Webinar\, Belize City\, Belize
CATEGORIES:Parent Training
ATTACH;FMTTYPE=image/jpeg:https://autismbelize.org/wp-content/uploads/2020/07/Parent-Training-FB4.jpg
ORGANIZER;CN="Autism Belize":MAILTO:autismbelize@icloud.com
END:VEVENT
BEGIN:VEVENT
DTSTART;TZID=America/Belize:20200818T183000
DTEND;TZID=America/Belize:20200818T200000
DTSTAMP:20260424T142925
CREATED:20200811T175414Z
LAST-MODIFIED:20200811T180249Z
UID:5509-1597775400-1597780800@autismbelize.org
SUMMARY:Best Practices in IEP Development: What Staff and Parents Should Know
DESCRIPTION:Autism Belize presents a Parent and Teacher Training on: Best Practices in IEP Development: What Staff and Parents Should Know. \nPlease note\, this parent training will NOT be held LIVE on the Autism Facebook Page. Autism Belize will email your link with instructions on how to sign-in for this training directly to you by Monday\, August 17\, 2020. \nAutism Belize is organizing and hosting this event free of charge. Should you have any questions or concerns\, please contact us directly. \n 
URL:https://autismbelize.org/event/best-practices-in-iep-development-what-staff-and-parents-should-know/
LOCATION:Private Zoom Session
CATEGORIES:Parent Training
ATTACH;FMTTYPE=image/jpeg:https://autismbelize.org/wp-content/uploads/2020/08/Parent-Training-FB1.jpg
ORGANIZER;CN="Autism Belize":MAILTO:autismbelize@icloud.com
END:VEVENT
BEGIN:VEVENT
DTSTART;TZID=America/Belize:20200721T183000
DTEND;TZID=America/Belize:20200721T203000
DTSTAMP:20260424T142925
CREATED:20200728T195346Z
LAST-MODIFIED:20200728T195346Z
UID:5329-1595356200-1595363400@autismbelize.org
SUMMARY:Parent Training: Making Life a Little Easier- Tips for Life Skills Training Using ABI
DESCRIPTION:
URL:https://autismbelize.org/event/parent-training-making-life-a-little-easier-tips-for-life-skills-training-using-abi/
LOCATION:Online Webinar\, Belize City\, Belize
CATEGORIES:Parent Training
ATTACH;FMTTYPE=image/png:https://autismbelize.org/wp-content/uploads/2020/07/AB-Guest-Speaker-Nuwan_Almeida-1.png
ORGANIZER;CN="Autism Belize":MAILTO:autismbelize@icloud.com
END:VEVENT
END:VCALENDAR