BEGIN:VCALENDAR
VERSION:2.0
PRODID:-//Autism Belize - ECPv6.15.20//NONSGML v1.0//EN
CALSCALE:GREGORIAN
METHOD:PUBLISH
X-ORIGINAL-URL:https://autismbelize.org
X-WR-CALDESC:Events for Autism Belize
REFRESH-INTERVAL;VALUE=DURATION:PT1H
X-Robots-Tag:noindex
X-PUBLISHED-TTL:PT1H
BEGIN:VTIMEZONE
TZID:America/Belize
BEGIN:STANDARD
TZOFFSETFROM:-0600
TZOFFSETTO:-0600
TZNAME:CST
DTSTART:20200101T000000
END:STANDARD
END:VTIMEZONE
BEGIN:VEVENT
DTSTART;TZID=America/Belize:20210828T090000
DTEND;TZID=America/Belize:20210828T150000
DTSTAMP:20260424T191025
CREATED:20210722T174740Z
LAST-MODIFIED:20210722T175717Z
UID:6700-1630141200-1630162800@autismbelize.org
SUMMARY:Paraprofessional Certification Course
DESCRIPTION:The Paraprofessional Certification Course is 20 hrs. The first session will be 4 Saturdays: August 7\, 14\, 21 & 28\, 2021 in Belize in person (COVID regulations depending).  It will run from 9AM- 12NOON and 1-3PM. You will need to attend ALL sessions and pass the assessments to be certified.  \nCOST: $50 for Full Course \nDiscounts available based on need & request. \nCPD Credit Available. \nFor more information contact @AutismBelize
URL:https://autismbelize.org/event/paraprofessional-certification-course-module-1-2021-08-28/
LOCATION:Belize City\, Belize
CATEGORIES:PARA Pro Certification
ATTACH;FMTTYPE=image/jpeg:https://autismbelize.org/wp-content/uploads/2021/07/3.jpg
ORGANIZER;CN="Autism Belize":MAILTO:autismbelize@icloud.com
END:VEVENT
BEGIN:VEVENT
DTSTART;TZID=America/Belize:20210821T090000
DTEND;TZID=America/Belize:20210821T150000
DTSTAMP:20260424T191025
CREATED:20210722T174740Z
LAST-MODIFIED:20210722T175717Z
UID:6699-1629536400-1629558000@autismbelize.org
SUMMARY:Paraprofessional Certification Course
DESCRIPTION:The Paraprofessional Certification Course is 20 hrs. The first session will be 4 Saturdays: August 7\, 14\, 21 & 28\, 2021 in Belize in person (COVID regulations depending).  It will run from 9AM- 12NOON and 1-3PM. You will need to attend ALL sessions and pass the assessments to be certified.  \nCOST: $50 for Full Course \nDiscounts available based on need & request. \nCPD Credit Available. \nFor more information contact @AutismBelize
URL:https://autismbelize.org/event/paraprofessional-certification-course-module-1-2021-08-21/
LOCATION:Belize City\, Belize
CATEGORIES:PARA Pro Certification
ATTACH;FMTTYPE=image/jpeg:https://autismbelize.org/wp-content/uploads/2021/07/3.jpg
ORGANIZER;CN="Autism Belize":MAILTO:autismbelize@icloud.com
END:VEVENT
BEGIN:VEVENT
DTSTART;TZID=America/Belize:20210814T090000
DTEND;TZID=America/Belize:20210814T150000
DTSTAMP:20260424T191025
CREATED:20210722T174740Z
LAST-MODIFIED:20210722T175716Z
UID:6698-1628931600-1628953200@autismbelize.org
SUMMARY:Paraprofessional Certification Course
DESCRIPTION:The Paraprofessional Certification Course is 20 hrs. The first session will be 4 Saturdays: August 7\, 14\, 21 & 28\, 2021 in Belize in person (COVID regulations depending).  It will run from 9AM- 12NOON and 1-3PM. You will need to attend ALL sessions and pass the assessments to be certified.  \nCOST: $50 for Full Course \nDiscounts available based on need & request. \nCPD Credit Available. \nFor more information contact @AutismBelize
URL:https://autismbelize.org/event/paraprofessional-certification-course-module-1-2021-08-14/
LOCATION:Belize City\, Belize
CATEGORIES:PARA Pro Certification
ATTACH;FMTTYPE=image/jpeg:https://autismbelize.org/wp-content/uploads/2021/07/3.jpg
ORGANIZER;CN="Autism Belize":MAILTO:autismbelize@icloud.com
END:VEVENT
BEGIN:VEVENT
DTSTART;TZID=America/Belize:20210807T090000
DTEND;TZID=America/Belize:20210807T150000
DTSTAMP:20260424T191025
CREATED:20210722T174740Z
LAST-MODIFIED:20210722T175715Z
UID:6692-1628326800-1628348400@autismbelize.org
SUMMARY:Paraprofessional Certification Course
DESCRIPTION:The Paraprofessional Certification Course is 20 hrs. The first session will be 4 Saturdays: August 7\, 14\, 21 & 28\, 2021 in Belize in person (COVID regulations depending).  It will run from 9AM- 12NOON and 1-3PM. You will need to attend ALL sessions and pass the assessments to be certified.  \nCOST: $50 for Full Course \nDiscounts available based on need & request. \nCPD Credit Available. \nFor more information contact @AutismBelize
URL:https://autismbelize.org/event/paraprofessional-certification-course-module-1/
LOCATION:Belize City\, Belize
CATEGORIES:PARA Pro Certification
ATTACH;FMTTYPE=image/jpeg:https://autismbelize.org/wp-content/uploads/2021/07/3.jpg
ORGANIZER;CN="Autism Belize":MAILTO:autismbelize@icloud.com
END:VEVENT
END:VCALENDAR