BEGIN:VCALENDAR
VERSION:2.0
PRODID:-//Autism Belize - ECPv6.15.20//NONSGML v1.0//EN
CALSCALE:GREGORIAN
METHOD:PUBLISH
X-WR-CALNAME:Autism Belize
X-ORIGINAL-URL:https://autismbelize.org
X-WR-CALDESC:Events for Autism Belize
REFRESH-INTERVAL;VALUE=DURATION:PT1H
X-Robots-Tag:noindex
X-PUBLISHED-TTL:PT1H
BEGIN:VTIMEZONE
TZID:America/Belize
BEGIN:STANDARD
TZOFFSETFROM:-0600
TZOFFSETTO:-0600
TZNAME:CST
DTSTART:20200101T000000
END:STANDARD
END:VTIMEZONE
BEGIN:VEVENT
DTSTART;TZID=America/Belize:20210820T120000
DTEND;TZID=America/Belize:20210820T130000
DTSTAMP:20260424T190625
CREATED:20210707T224637Z
LAST-MODIFIED:20210722T032553Z
UID:6661-1629460800-1629464400@autismbelize.org
SUMMARY:Lunch & Learn: Following Instructions
DESCRIPTION:This free Lunch & Learn Sessions is for Special Needs Parents/Caregivers\, Teachers/Educators\, and Students. To register\, simply fill out the registration form here: \nParent & Teacher Training \n \nYou MUST register in advance. This free parent training is being offered to you by Autism Belize. Should you have any questions or concerns\, please contact us directly.
URL:https://autismbelize.org/event/lunch-learn-following-instructions/
LOCATION:Private Zoom Session
CATEGORIES:Lunch & Learn
ATTACH;FMTTYPE=image/jpeg:https://autismbelize.org/wp-content/uploads/2021/07/Parent-Training-FB14.jpg
ORGANIZER;CN="Autism Belize":MAILTO:autismbelize@icloud.com
END:VEVENT
END:VCALENDAR