BEGIN:VCALENDAR
VERSION:2.0
PRODID:-//Autism Belize - ECPv6.15.20//NONSGML v1.0//EN
CALSCALE:GREGORIAN
METHOD:PUBLISH
X-WR-CALNAME:Autism Belize
X-ORIGINAL-URL:https://autismbelize.org
X-WR-CALDESC:Events for Autism Belize
REFRESH-INTERVAL;VALUE=DURATION:PT1H
X-Robots-Tag:noindex
X-PUBLISHED-TTL:PT1H
BEGIN:VTIMEZONE
TZID:America/Belize
BEGIN:STANDARD
TZOFFSETFROM:-0600
TZOFFSETTO:-0600
TZNAME:CST
DTSTART:20190101T000000
END:STANDARD
END:VTIMEZONE
BEGIN:VEVENT
DTSTART;TZID=America/Belize:20210727T180000
DTEND;TZID=America/Belize:20210727T190000
DTSTAMP:20260424T173112
CREATED:20210722T025958Z
LAST-MODIFIED:20210722T025959Z
UID:6681-1627408800-1627412400@autismbelize.org
SUMMARY:The Inspiration Center & Occupational Therapy
DESCRIPTION:Autism Belize announces a special Facebook Live panel presentation on The Inspiration Center & Occupational Therapy.
URL:https://autismbelize.org/event/the-inspiration-center-occupational-therapy/
LOCATION:Facebook Live\, Belize
CATEGORIES:Guest Speaker Series
ATTACH;FMTTYPE=image/jpeg:https://autismbelize.org/wp-content/uploads/2021/07/Copy-of-Guest-Speaker-Insta.jpg
ORGANIZER;CN="Autism Belize":MAILTO:autismbelize@icloud.com
END:VEVENT
BEGIN:VEVENT
DTSTART;TZID=America/Belize:20210401T193000
DTEND;TZID=America/Belize:20210401T203000
DTSTAMP:20260424T173112
CREATED:20210313T200522Z
LAST-MODIFIED:20210313T200643Z
UID:6188-1617305400-1617309000@autismbelize.org
SUMMARY:So really\, What is Autism?
DESCRIPTION:Autism Belize Speaker Series Presents: So really\, What is Autism? by Dr. Byron Ross on April 1\, 2021 at 7:30PM BZE Time LIVE on Autism Belize Facebook Page. \n 
URL:https://autismbelize.org/event/so-really-what-is-autism/
LOCATION:Facebook Live\, Belize
CATEGORIES:Guest Speaker Series
ATTACH;FMTTYPE=image/jpeg:https://autismbelize.org/wp-content/uploads/2021/03/Guest-Speaker-Insta5.jpg
ORGANIZER;CN="Autism Belize":MAILTO:autismbelize@icloud.com
END:VEVENT
BEGIN:VEVENT
DTSTART;TZID=America/Belize:20201201T183000
DTEND;TZID=America/Belize:20201201T203000
DTSTAMP:20260424T173112
CREATED:20201116T184150Z
LAST-MODIFIED:20201116T184151Z
UID:5950-1606847400-1606854600@autismbelize.org
SUMMARY:Disability Awareness Week Guest Speaker Event
DESCRIPTION:
URL:https://autismbelize.org/event/disability-awareness-week-guest-speaker-event/
LOCATION:Facebook Live\, Belize
CATEGORIES:Guest Speaker Series,Special Needs Activities
ATTACH;FMTTYPE=image/jpeg:https://autismbelize.org/wp-content/uploads/2020/11/8.jpg
ORGANIZER;CN="Autism Belize":MAILTO:autismbelize@icloud.com
END:VEVENT
BEGIN:VEVENT
DTSTART;TZID=America/Belize:20200804T183000
DTEND;TZID=America/Belize:20200804T193000
DTSTAMP:20260424T173112
CREATED:20200728T173326Z
LAST-MODIFIED:20200728T201313Z
UID:5313-1596565800-1596569400@autismbelize.org
SUMMARY:Autism Belize Guest Speaker Series: The Positive Approach to Discipline
DESCRIPTION:Please join us on our Facebook Page for another LIVE Guest Speaker Series on Tuesday\, August 4 at 6:30PM. Naomi Sanchez\, a certified Positive Discipline Educator\, will present on: The Positive Approach to Discipline. All parents\, caregivers and educators are welcomed to attend and participate!
URL:https://autismbelize.org/event/autism-belize-guest-speaker-series-the-positive-approach-to-discipline/
LOCATION:Facebook Live\, Belize
CATEGORIES:Guest Speaker Series
ATTACH;FMTTYPE=image/png:https://autismbelize.org/wp-content/uploads/2020/07/Guest-Speaker-Insta-1.png
ORGANIZER;CN="Autism Belize":MAILTO:autismbelize@icloud.com
END:VEVENT
BEGIN:VEVENT
DTSTART;TZID=America/Belize:20200630T183000
DTEND;TZID=America/Belize:20200630T200000
DTSTAMP:20260424T173112
CREATED:20200728T200551Z
LAST-MODIFIED:20200801T041215Z
UID:5333-1593541800-1593547200@autismbelize.org
SUMMARY:Autism Belize Guest Speaker Series Presents: The Genetics and Neuroscience of Neurodevelopmental Disorders
DESCRIPTION:
URL:https://autismbelize.org/event/autism-belize-guest-speaker-series-presents-the-genetics-and-neuroscience-of-neurodevelopmental-disorders/
CATEGORIES:Guest Speaker Series
ATTACH;FMTTYPE=image/png:https://autismbelize.org/wp-content/uploads/2020/04/2.png
ORGANIZER;CN="Autism Belize":MAILTO:autismbelize@icloud.com
END:VEVENT
END:VCALENDAR